{"text_format":"3","workbook":"xlsx","n_sheets":6,"sheets":["Enunciado","Préstamo","Balance inicial","Plantilla","Solución","Licencia"],"not_rendered":{"macros":1},"read":"whole","date_system":"1900"}

{"sheet":"Enunciado","index":0,"n_rows":36,"n_cols":12,"rows_kept":36}
[]
[]
[null,"Aportación (inicial) de los socios por un total de",null," que son ingresados en la cuenta corriente."]
[]
[null,"Préstamo a comienzos de año por un total de",null," que son ingresados en la cuenta corriente."]
[null,"Se acuerda la devolución del préstamo en ",5," cuotas","anuales",", con ","pago","constante.",{"v":0.08,"d":"8%"},"de interés nominal."]
[]
[null,"Compra de terrenos por",null,". Pendiente de pago a final de año:",{"$nulls":4},"."]
[]
[null,"Compra de Activo No Corriente amortizable por",null,". Pendiente de pago a final de año:",{"$nulls":4},". Amortización correspondiente al año:",null,null,"."]
[]
[null,"Compra de mercaderias por",null,". Pendiente de pago a final de año:",{"$nulls":4},"."]
[]
[null,"Venta de mercaderías por",null,". Pendiente de cobro a final de año:",{"$nulls":4},"."]
[]
[null,"Venta de proyectos o servicios por",null,". Pendiente de cobro a final de año:",{"$nulls":4},"."]
[]
[null,"Pagos por préstamos (ver hoja adjunta) por",null,". La cantidad correspondiente a intereses es",{"$nulls":4},"."]
[]
[null,"Sueldos y Salarios"]
[]
[null,"Seguridad Social (30 % salarios)",null,". Pendiente de pago a final  de año:",{"$nulls":4},"."]
[]
[null,"Otros gastos",null,". Pendiente de pago a final de año:",{"$nulls":4},"."]
[]
[null,"Aportaciones por ampliación de capital",null,". Porcentaje de propiedad para la ampliación:",{"$nulls":4},".",{"$f":"H26*C3/(1-H26)","v":0},{"$f":"C26-J26","v":0}]
[]
[null,"Existencias a final de año",null,"."]
[]
[null,"Tasa de impuestos",null,"."]
[]
[]
[null,"Si se parte de un balance inicial, rellenar los datos en la hoja correspondiente e incluir"]
[null,"Amortización año de ANC material existente previo"]
[null,"Amortización año de ANC intangible existente previo"]
[null,"Pagos por préstamos previos por",null,". La cantidad correspondiente a intereses es",{"$nulls":4},"."]

{"sheet":"Préstamo","index":1,"n_rows":36,"n_cols":15,"rows_kept":36}
[]
[null,null,"Con los datos del enunciado, asumiendo pagos a final de mes/año, se tienen pagos el primer año por ",{"$nulls":7},{"$f":"IF(Enunciado!E6=\"anuales\",IF(Enunciado!G6=\"pago\",Préstamo!H27,Préstamo!N27))","v":{"v":0,"d":"0.00 €"}},", de los cuales",{"$f":"IF(Enunciado!E6=\"anuales\",IF(Enunciado!G6=\"pago\",Préstamo!G27,Préstamo!M27))","v":{"v":0,"d":"0.00 €"}},"corresponden a intereses"]
[null,"Cantidad",{"$f":"Enunciado!C5","v":{"v":0,"d":"0 €"}}]
[null,"Interés nominal",{"$f":"Enunciado!I6","v":{"v":0.08,"d":"8%"}}]
[null,"Años",{"$f":"IF(Enunciado!E6=\"anuales\",Enunciado!C6,Enunciado!C6/12)","v":5},null,"Para cuotas mensuales constantes (capitalización mensual)",{"$nulls":5},"Para cuotas mensuales con término de amortización constante (capitalización mensual)"]
[null,"Meses",{"$f":"C5*12","v":60}]
[{"$nulls":4},"Mes","Deuda inicio mes","Intereses","Pago","Deuda final",null,"Mes","Deuda inicio mes","Intereses","Pago","Deuda final"]
[{"$nulls":4},1,{"$f":"C3","v":{"v":0,"d":"0.00"}},{"$f":"F8*$C$4/12","v":{"v":0,"d":"0.00"}},{"$f":"$C$3*($C$4/12)/(1-(1+($C$4/12))^-$C$6)","v":{"v":0,"d":"0.00"}},{"$f":"F8+G8-H8","v":{"v":0,"d":"0.00"}},null,1,{"$f":"C3","v":{"v":0,"d":"0.00"}},{"$f":"L8*$C$4/12","v":{"v":0,"d":"0.00"}},{"$f":"$C$3/$C$6+M8","v":{"v":0,"d":"0.00"}},{"$f":"L8+M8-N8","v":{"v":0,"d":"0.00"}}]
[{"$nulls":4},2,{"$f":"I8","v":{"v":0,"d":"0.00"}},{"$f":"F9*$C$4/12","v":{"v":0,"d":"0.00"}},{"v":0,"d":"0.00"},{"$f":"F9+G9-H9","v":{"v":0,"d":"0.00"}},null,2,{"$f":"O8","v":{"v":0,"d":"0.00"}},{"$f":"L9*$C$4/12","v":{"v":0,"d":"0.00"}},{"v":0,"d":"0.00"},{"$f":"L9+M9-N9","v":{"v":0,"d":"0.00"}}]
[{"$nulls":4},3,{"$f":"I9","v":{"v":0,"d":"0.00"}},{"$f":"F10*$C$4/12","v":{"v":0,"d":"0.00"}},{"v":0,"d":"0.00"},{"$f":"F10+G10-H10","v":{"v":0,"d":"0.00"}},null,3,{"$f":"O9","v":{"v":0,"d":"0.00"}},{"$f":"L10*$C$4/12","v":{"v":0,"d":"0.00"}},{"v":0,"d":"0.00"},{"$f":"L10+M10-N10","v":{"v":0,"d":"0.00"}}]
[{"$nulls":4},4,{"v":0,"d":"0.00"},{"v":0,"d":"0.00"},{"v":0,"d":"0.00"},{"v":0,"d":"0.00"},null,4,{"v":0,"d":"0.00"},{"v":0,"d":"0.00"},{"v":0,"d":"0.00"},{"v":0,"d":"0.00"}]
[{"$nulls":4},5,{"v":0,"d":"0.00"},{"v":0,"d":"0.00"},{"v":0,"d":"0.00"},{"v":0,"d":"0.00"},null,5,{"v":0,"d":"0.00"},{"v":0,"d":"0.00"},{"v":0,"d":"0.00"},{"v":0,"d":"0.00"}]
[{"$nulls":4},6,{"v":0,"d":"0.00"},{"v":0,"d":"0.00"},{"v":0,"d":"0.00"},{"v":0,"d":"0.00"},null,6,{"v":0,"d":"0.00"},{"v":0,"d":"0.00"},{"v":0,"d":"0.00"},{"v":0,"d":"0.00"}]
[{"$nulls":4},7,{"v":0,"d":"0.00"},{"v":0,"d":"0.00"},{"v":0,"d":"0.00"},{"v":0,"d":"0.00"},null,7,{"v":0,"d":"0.00"},{"v":0,"d":"0.00"},{"v":0,"d":"0.00"},{"v":0,"d":"0.00"}]
[{"$nulls":4},8,{"v":0,"d":"0.00"},{"v":0,"d":"0.00"},{"v":0,"d":"0.00"},{"v":0,"d":"0.00"},null,8,{"v":0,"d":"0.00"},{"v":0,"d":"0.00"},{"v":0,"d":"0.00"},{"v":0,"d":"0.00"}]
[{"$nulls":4},9,{"v":0,"d":"0.00"},{"v":0,"d":"0.00"},{"v":0,"d":"0.00"},{"v":0,"d":"0.00"},null,9,{"v":0,"d":"0.00"},{"v":0,"d":"0.00"},{"v":0,"d":"0.00"},{"v":0,"d":"0.00"}]
[{"$nulls":4},10,{"v":0,"d":"0.00"},{"v":0,"d":"0.00"},{"v":0,"d":"0.00"},{"v":0,"d":"0.00"},null,10,{"v":0,"d":"0.00"},{"v":0,"d":"0.00"},{"v":0,"d":"0.00"},{"v":0,"d":"0.00"}]
[{"$nulls":4},11,{"v":0,"d":"0.00"},{"v":0,"d":"0.00"},{"v":0,"d":"0.00"},{"v":0,"d":"0.00"},null,11,{"v":0,"d":"0.00"},{"v":0,"d":"0.00"},{"v":0,"d":"0.00"},{"v":0,"d":"0.00"}]
[{"$nulls":4},12,{"v":0,"d":"0.00"},{"v":0,"d":"0.00"},{"v":0,"d":"0.00"},{"v":0,"d":"0.00"},null,12,{"v":0,"d":"0.00"},{"v":0,"d":"0.00"},{"v":0,"d":"0.00"},{"v":0,"d":"0.00"}]
[]
[{"$nulls":6},{"$f":"SUM(G8:G20)","v":{"v":0,"d":"0.00"}},{"v":0,"d":"0.00"},{"$nulls":4},{"$f":"SUM(M8:M20)","v":{"v":0,"d":"0.00"}},{"$f":"SUM(N8:N20)","v":{"v":0,"d":"0.00"}}]
[{"$nulls":6},"Intereses","Pagos",{"$nulls":4},"Intereses","Pagos"]
[]
[{"$nulls":4},"Para cuotas anuales constantes (capitalización anual)",{"$nulls":5},"Para cuotas anuales con término de amortización constante (capitalización anual)"]
[]
[{"$nulls":4},"Año","Deuda inicio año","Intereses","Pago","Deuda final",null,"Año","Deuda inicio año","Intereses","Pago","Deuda final"]
[{"$nulls":4},1,{"$f":"C3","v":{"v":0,"d":"0.00"}},{"$f":"F27*$C$4","v":{"v":0,"d":"0.00"}},{"$f":"$C$3*$C$4/(1-(1+$C$4)^-$C$5)","v":{"v":0,"d":"0.00"}},{"$f":"F27+G27-H27","v":{"v":0,"d":"0.00"}},null,1,{"$f":"C3","v":{"v":0,"d":"0.00"}},{"$f":"L27*$C$4","v":{"v":0,"d":"0.00"}},{"$f":"$C$3/$C$5+M27","v":{"v":0,"d":"0.00"}},{"$f":"L27+M27-N27","v":{"v":0,"d":"0.00"}}]
[{"$nulls":4},2,{"$f":"I27","v":{"v":0,"d":"0.00"}},{"$f":"F28*$C$4","v":{"v":0,"d":"0.00"}},{"$f":"$C$3*$C$4/(1-(1+$C$4)^-$C$5)","v":{"v":0,"d":"0.00"}},{"$f":"F28+G28-H28","v":{"v":0,"d":"0.00"}},null,2,{"$f":"O27","v":{"v":0,"d":"0.00"}},{"$f":"L28*$C$4","v":{"v":0,"d":"0.00"}},{"$f":"$C$3/$C$5+M28","v":{"v":0,"d":"0.00"}},{"$f":"L28+M28-N28","v":{"v":0,"d":"0.00"}}]
[{"$nulls":4},3,{"$f":"I28","v":{"v":0,"d":"0.00"}},{"v":0,"d":"0.00"},{"$f":"$C$3*$C$4/(1-(1+$C$4)^-$C$5)","v":{"v":0,"d":"0.00"}},{"$f":"F29+G29-H29","v":{"v":0,"d":"0.00"}},null,3,{"$f":"O28","v":{"v":0,"d":"0.00"}},{"v":0,"d":"0.00"},{"v":0,"d":"0.00"},{"$f":"L29+M29-N29","v":{"v":0,"d":"0.00"}}]
[{"$nulls":4},4,{"v":0,"d":"0.00"},{"v":0,"d":"0.00"},{"v":0,"d":"0.00"},{"v":0,"d":"0.00"},null,4,{"v":0,"d":"0.00"},{"v":0,"d":"0.00"},{"v":0,"d":"0.00"},{"v":0,"d":"0.00"}]
[{"$nulls":4},5,{"v":0,"d":"0.00"},{"v":0,"d":"0.00"},{"v":0,"d":"0.00"},{"v":0,"d":"0.00"},null,5,{"v":0,"d":"0.00"},{"v":0,"d":"0.00"},{"v":0,"d":"0.00"},{"v":0,"d":"0.00"}]
[{"$nulls":4},6,{"$f":"I31","v":{"v":0,"d":"0.00"}},{"v":0,"d":"0.00"},{"v":0,"d":"0.00"},{"$f":"F32+G32-H32","v":{"v":0,"d":"0.00"}},null,6,{"v":0,"d":"0.00"},{"v":0,"d":"0.00"},{"$f":"$C$3/$C$5+M32","v":{"v":0,"d":"0.00"}},{"v":0,"d":"0.00"}]
[{"$nulls":4},7,{"v":0,"d":"0.00"},{"v":0,"d":"0.00"},{"v":0,"d":"0.00"},{"v":0,"d":"0.00"},null,7,{"v":0,"d":"0.00"},{"v":0,"d":"0.00"},{"$f":"$C$3/$C$5+M33","v":{"v":0,"d":"0.00"}},{"v":0,"d":"0.00"}]
[{"$nulls":4},8,{"v":0,"d":"0.00"},{"v":0,"d":"0.00"},{"v":0,"d":"0.00"},{"v":0,"d":"0.00"},null,8,{"v":0,"d":"0.00"},{"v":0,"d":"0.00"},{"v":0,"d":"0.00"},{"v":0,"d":"0.00"}]
[{"$nulls":4},9,{"v":0,"d":"0.00"},{"v":0,"d":"0.00"},{"v":0,"d":"0.00"},{"v":0,"d":"0.00"},null,9,{"v":0,"d":"0.00"},{"v":0,"d":"0.00"},{"v":0,"d":"0.00"},{"v":0,"d":"0.00"}]
[{"$nulls":4},10,{"v":0,"d":"0.00"},{"v":0,"d":"0.00"},{"v":0,"d":"0.00"},{"v":0,"d":"0.00"},null,10,{"v":0,"d":"0.00"},{"v":0,"d":"0.00"},{"v":0,"d":"0.00"},{"v":0,"d":"0.00"}]

{"sheet":"Balance inicial","index":2,"n_rows":26,"n_cols":6,"rows_kept":26,"merged":[[1,1,1,5],[3,1,3,2],[3,4,3,5]]}
[]
[null,"BALANCE ABREVIADO"]
[]
[null,"ACTIVO",null,null,"PATRIMONIO NETO Y PASIVO"]
[null,"A) ACTIVO NO CORRIENTE",{"$f":"SUM(C6:C15)","v":{"v":0,"d":"0 €"}},null,"A) PATRIMONIO NETO",{"$f":"SUM(F6:F12)","v":{"v":0,"d":"0 €"}}]
[null,"Inmovilizado intangible",null,null,"Capital "]
[null,"Inmovilizado Material",null,null,"Prima de emision"]
[{"$nulls":4},"Reservas"]
[null,"Amortizaciones inmovilizado material (negativo)"]
[null,"Amortizaciones inmovilizado intangible (neg.)"]
[]
[]
[{"$nulls":4},"B) PASIVO NO CORRIENTE",{"$f":"SUM(F14:F17)","v":{"v":0,"d":"0 €"}}]
[{"$nulls":4},"Deuda a LP con entidades de credito"]
[]
[null,"B) ACTIVO CORRIENTE",{"$f":"SUM(C17:C25)","v":{"v":0,"d":"0 €"}}]
[null,"Existencias"]
[{"$nulls":4},"C) PASIVO CORRIENTE",{"$f":"SUM(F19:F25)","v":{"v":0,"d":"0 €"}}]
[null,"Deudores Comerciales y otras cuentas a cobrar",null,null,"Deuda a corto plazo Proveedores"]
[]
[null,"Efectivo y otros activos liquidos equivalentes",null,null,"Seguridad Social, acreedora"]
[]
[{"$nulls":4},"H.P. acreedora I. S."]
[]
[]
[null,"TOTAL ACTIVO",{"$f":"C5+C16","v":{"v":0,"d":"0 €"}},null,"TOTAL PATRIMONIO NETO Y PASIVO",{"$f":"F5+F13+F18","v":{"v":0,"d":"0 €"}}]

{"sheet":"Plantilla","index":3,"n_rows":30,"n_cols":15,"rows_kept":30,"merged":[[1,1,1,5],[1,8,1,11],[1,13,1,14],[3,1,3,2],[3,4,3,5],[3,8,3,11],[3,13,3,14],[4,8,4,9],[4,10,4,11],[16,13,16,14],[17,8,17,11],[18,8,18,9],[18,10,18,11]]}
[]
[null,"BALANCE ABREVIADO",{"$nulls":6},"CUENTA DE RESULTADOS ABREVIADA",{"$nulls":4},"CUENTA DE TESORERÍA"]
[]
[null,"ACTIVO",null,null,"PATRIMONIO NETO Y PASIVO",{"$nulls":3},"INGRESOS Y GASTOS DE LA ACTIVIDAD",{"$nulls":4},"COBROS CUENTA DE TESORERIA 2018"]
[null,"A) ACTIVO NO CORRIENTE",{"$f":"SUM(C6:C15)","v":{"v":0,"d":"0 €"}},null,"A) PATRIMONIO NETO",{"$f":"SUM(F6:F12)","v":{"v":0,"d":"0 €"}},null,null,"GASTOS de la actividad",null,"INGRESOS de la actividad",null,null,"Saldo inicial"]
[null,"Inmovilizado intangible",null,null,"Capital ",{"$nulls":3},"Compra de mercaderias",null,"Venta de mercaderias",null,null,"Aportación inicial"]
[null,"Inmovilizado Material",null,null,"Prima de emision",{"$nulls":3},"Amortizaciones material",null,"Venta de proyecto o servicio",null,null,"Cobros por ventas"]
[{"$nulls":4},"Reservas",{"$nulls":3},"Amortizaciones intangible",null,"Variación pos. existencias ",null,null,"Cobros por préstamos recibidos"]
[null,"Amortizaciones inmovilizado material",{"$nulls":6},"Sueldos y Salarios",{"$nulls":4},"Intereses devengados"]
[null,"Amortizaciones inmovilizado intangible",null,null,"Resultado del ejercicio ",{"$nulls":3},"Seguridad Social",{"$nulls":4},"Cobros por prestación de servicio"]
[{"$nulls":8},"Variación neg. existencias ",{"$nulls":4},"Por ampliación capital"]
[{"$nulls":8},"Otros gastos",{"$nulls":4},"Cobros pendientes año anterior"]
[{"$nulls":4},"B) PASIVO NO CORRIENTE",{"$f":"SUM(F14:F17)","v":{"v":0,"d":"0 €"}}]
[{"$nulls":4},"Deuda a LP con entidades de credito"]
[]
[null,"B) ACTIVO CORRIENTE",{"$f":"SUM(C17:C25)","v":{"v":0,"d":"0 €"}},{"$nulls":7},"EXCEDENTE DE LA ACTIVIDAD",{"$f":"SUM(L6:L14)-SUM(J6:J14)","v":{"v":0,"d":"0 €"}}]
[null,"Existencias",{"$nulls":11},"PAGOS CUENTA DE TESORERIA 2018"]
[{"$nulls":4},"C) PASIVO CORRIENTE",{"$f":"SUM(F19:F25)","v":{"v":0,"d":"0 €"}},null,null,"INGRESOS Y GASTOS FINANCIEROS",{"$nulls":4},"Por compra Terreno"]
[null,"Deudores Comerciales y otras cuentas a cobrar",null,null,"Deuda a corto plazo Proveedores",{"$nulls":3},"GASTOS financieros",null,"INGRESOS financieros",null,null,"Por compra otro Activo No Corriente"]
[{"$nulls":8},"Intereses",null,"Ingresos financieros",{"v":0,"d":"0 €"},null,"Por compra mercaderías"]
[null,"Efectivo y otros activos liquidos equivalentes",null,null,"Seguridad Social, acreedora",{"$nulls":8},"Por cuotas del préstamo"]
[{"$nulls":13},"Sueldos y salarios"]
[{"$nulls":4},"H.P. acreedora I. S.",{"$nulls":8},"Seguridad Social"]
[{"$nulls":10},"EXCEDENTE DE LAS OPERACIONES FINANCIERAS",{"$f":"SUM(L20:L22)-SUM(J20:J22)","v":{"v":0,"d":"0 €"}},null,"Por otros gastos"]
[{"$nulls":13},"Impuestos pendientes año anterior"]
[null,"TOTAL ACTIVO",{"$f":"C5+C16","v":{"v":0,"d":"0 €"}},null,"TOTAL PATRIMONIO NETO Y PASIVO",{"$f":"F5+F13+F18","v":{"v":0,"d":"0 €"}},{"$nulls":7},"Deuda proveedores año anterior"]
[{"$nulls":10},"EXCEDENTE ANTES DE IMPUESTOS",{"$f":"L24+L16","v":{"v":0,"d":"0 €"}},null,"SALDO TOTAL TESORERÍA",{"$f":"SUM(O5:O15)-SUM(O18:O26)","v":{"v":0,"d":"0 €"}}]
[{"$nulls":10},"IMPUESTOS SOBRE BENEFICIOS",{"$f":"L27*Enunciado!C30","v":{"v":0,"d":"0 €"}}]
[]
[{"$nulls":10},"RESULTADO TOTAL",{"$f":"L27-L28","v":{"v":0,"d":"0 €"}}]

{"sheet":"Solución","index":4,"n_rows":30,"n_cols":15,"rows_kept":30,"merged":[[1,1,1,5],[1,8,1,11],[1,13,1,14],[3,1,3,2],[3,4,3,5],[3,8,3,11],[3,13,3,14],[4,8,4,9],[4,10,4,11],[16,13,16,14],[17,8,17,11],[18,8,18,9],[18,10,18,11]]}
[]
[null,"BALANCE ABREVIADO",{"$nulls":6},"CUENTA DE RESULTADOS ABREVIADA",{"$nulls":4},"CUENTA DE TESORERÍA"]
[]
[null,"ACTIVO",null,null,"PATRIMONIO NETO Y PASIVO",{"$nulls":3},"INGRESOS Y GASTOS DE LA ACTIVIDAD",{"$nulls":4},"COBROS CUENTA DE TESORERIA 2018"]
[null,"A) ACTIVO NO CORRIENTE",{"$f":"SUM(C6:C15)","v":{"v":0,"d":"0 €"}},null,"A) PATRIMONIO NETO",{"$f":"SUM(F6:F12)","v":{"v":0,"d":"0 €"}},null,null,"GASTOS de la actividad",null,"INGRESOS de la actividad",null,null,"Saldo inicial",{"$f":"'Balance inicial'!C21","v":{"v":0,"d":"0 €"}}]
[null,"Inmovilizado intangible",{"$f":"'Balance inicial'!C6","v":{"v":0,"d":"0 €"}},null,"Capital ",{"$f":"'Balance inicial'!F6+Enunciado!C3+Enunciado!J26","v":{"v":0,"d":"0 €"}},null,null,"Compra de mercaderias",{"$f":"Enunciado!C12","v":{"v":0,"d":"0 €"}},"Venta de mercaderias",{"$f":"Enunciado!C14","v":{"v":0,"d":"0 €"}},null,"Aportación inicial",{"$f":"Enunciado!C3","v":{"v":0,"d":"0 €"}}]
[null,"Inmovilizado Material",{"$f":"Enunciado!C8+Enunciado!C10+'Balance inicial'!C7","v":{"v":0,"d":"0 €"}},null,"Prima de emision",{"$f":"'Balance inicial'!F7+Enunciado!K26","v":{"v":0,"d":"0 €"}},null,null,"Amortizaciones material",{"$f":"Enunciado!K10+Enunciado!D34","v":{"v":0,"d":"0 €"}},"Venta de proyecto o servicio",{"$f":"Enunciado!C16","v":{"v":0,"d":"0 €"}},null,"Cobros por ventas",{"$f":"Enunciado!C14-Enunciado!H14","v":{"v":0,"d":"0 €"}}]
[{"$nulls":4},"Reservas",{"$f":"'Balance inicial'!F8","v":{"v":0,"d":"0 €"}},null,null,"Amortizaciones intangible",{"$f":"Enunciado!D35","v":{"v":0,"d":"0 €"}},"Variación pos. existencias ",{"$f":"IF(Enunciado!C28>'Balance inicial'!C17,Enunciado!C28-'Balance inicial'!C17,0)","v":{"v":0,"d":"0 €"}},null,"Cobros por préstamos recibidos",{"$f":"Enunciado!C5","v":{"v":0,"d":"0 €"}}]
[null,"Amortizaciones inmovilizado material",{"$f":"-Enunciado!K10+'Balance inicial'!C9-Enunciado!D34","v":{"v":0,"d":"0 €"}},{"$nulls":5},"Sueldos y Salarios",{"$f":"Enunciado!C20","v":{"v":0,"d":"0 €"}},{"$nulls":3},"Intereses devengados",{"v":0,"d":"0 €"}]
[null,"Amortizaciones inmovilizado intangible",{"$f":"'Balance inicial'!C10-Enunciado!D35","v":{"v":0,"d":"0 €"}},null,"Resultado del ejercicio ",{"$f":"L30","v":{"v":0,"d":"0 €"}},null,null,"Seguridad Social",{"$f":"Enunciado!C22","v":{"v":0,"d":"0 €"}},{"$nulls":3},"Cobros por prestación de servicio",{"$f":"Enunciado!C16-Enunciado!H16","v":{"v":0,"d":"0 €"}}]
[{"$nulls":8},"Variación neg. existencias ",{"$f":"IF('Balance inicial'!C17>Enunciado!C28,'Balance inicial'!C17-Enunciado!C28,0)","v":{"v":0,"d":"0 €"}},{"$nulls":3},"Por ampliación capital",{"$f":"Enunciado!C26","v":{"v":0,"d":"0 €"}}]
[{"$nulls":8},"Otros gastos",{"$f":"Enunciado!C24","v":{"v":0,"d":"0 €"}},{"$nulls":3},"Cobros pendientes año anterior",{"$f":"'Balance inicial'!C19","v":{"v":0,"d":"0 €"}}]
[{"$nulls":4},"B) PASIVO NO CORRIENTE",{"$f":"SUM(F14:F17)","v":{"v":0,"d":"0 €"}}]
[{"$nulls":4},"Deuda a LP con entidades de credito",{"$f":"'Balance inicial'!F14+Enunciado!C5+Enunciado!H18-Enunciado!C18+Enunciado!H36-Enunciado!C36","v":{"v":0,"d":"0 €"}}]
[]
[null,"B) ACTIVO CORRIENTE",{"$f":"SUM(C17:C25)","v":{"v":0,"d":"0 €"}},{"$nulls":7},"EXCEDENTE DE LA ACTIVIDAD",{"$f":"SUM(L6:L14)-SUM(J6:J14)","v":{"v":0,"d":"0 €"}}]
[null,"Existencias",{"$f":"Enunciado!C28","v":{"v":0,"d":"0 €"}},{"$nulls":10},"PAGOS CUENTA DE TESORERIA 2018"]
[{"$nulls":4},"C) PASIVO CORRIENTE",{"$f":"SUM(F19:F25)","v":{"v":0,"d":"0 €"}},null,null,"INGRESOS Y GASTOS FINANCIEROS",{"$nulls":4},"Por compra Terreno",{"$f":"Enunciado!C8-Enunciado!H8","v":{"v":0,"d":"0 €"}}]
[null,"Deudores Comerciales y otras cuentas a cobrar",{"$f":"Enunciado!H14+Enunciado!H16","v":{"v":0,"d":"0 €"}},null,"Deuda a corto plazo Proveedores",{"$f":"Enunciado!H8+Enunciado!H10+Enunciado!H12+Enunciado!H24","v":{"v":0,"d":"0 €"}},null,null,"GASTOS financieros",null,"INGRESOS financieros",null,null,"Por compra otro Activo No Corriente",{"$f":"Enunciado!C10-Enunciado!H10","v":{"v":0,"d":"0 €"}}]
[{"$nulls":8},"Intereses",{"$f":"Enunciado!H18+Enunciado!H36","v":{"v":0,"d":"0 €"}},"Ingresos financieros",{"v":0,"d":"0 €"},null,"Por compra mercaderías",{"$f":"Enunciado!C12-Enunciado!H12","v":{"v":0,"d":"0 €"}}]
[null,"Efectivo y otros activos liquidos equivalentes",{"$f":"O27","v":{"v":0,"d":"0 €"}},null,"Seguridad Social, acreedora",{"$f":"Enunciado!H22","v":{"v":0,"d":"0 €"}},{"$nulls":7},"Por cuotas del préstamo",{"$f":"Enunciado!C18+Enunciado!C36","v":{"v":0,"d":"0 €"}}]
[{"$nulls":13},"Sueldos y salarios",{"$f":"Enunciado!C20","v":{"v":0,"d":"0 €"}}]
[{"$nulls":4},"H.P. acreedora I. S.",{"$f":"L28","v":{"v":0,"d":"0 €"}},{"$nulls":7},"Seguridad Social",{"$f":"Enunciado!C22-Enunciado!H22+'Balance inicial'!F21","v":{"v":0,"d":"0 €"}}]
[{"$nulls":10},"EXCEDENTE DE LAS OPERACIONES FINANCIERAS",{"$f":"SUM(L20:L22)-SUM(J20:J22)","v":{"v":0,"d":"0 €"}},null,"Por otros gastos",{"$f":"Enunciado!C24-Enunciado!H24","v":{"v":0,"d":"0 €"}}]
[{"$nulls":13},"Impuestos pendientes año anterior",{"$f":"'Balance inicial'!F23","v":{"v":0,"d":"0 €"}}]
[null,"TOTAL ACTIVO",{"$f":"C5+C16","v":{"v":0,"d":"0 €"}},null,"TOTAL PATRIMONIO NETO Y PASIVO",{"$f":"F5+F13+F18","v":{"v":0,"d":"0 €"}},{"$nulls":7},"Deuda proveedores año anterior",{"$f":"'Balance inicial'!F19","v":{"v":0,"d":"0 €"}}]
[{"$nulls":10},"EXCEDENTE ANTES DE IMPUESTOS",{"$f":"L24+L16","v":{"v":0,"d":"0 €"}},null,"SALDO TOTAL TESORERÍA",{"$f":"SUM(O5:O15)-SUM(O18:O26)","v":{"v":0,"d":"0 €"}}]
[{"$nulls":10},"IMPUESTOS SOBRE BENEFICIOS",{"$f":"L27*Enunciado!C30","v":{"v":0,"d":"0 €"}}]
[]
[{"$nulls":10},"RESULTADO TOTAL",{"$f":"L27-L28","v":{"v":0,"d":"0 €"}}]

{"sheet":"Licencia","index":5,"n_rows":7,"n_cols":2,"rows_kept":7,"merged":[[1,1,1,11],[6,1,6,11]]}
[]
[null,"Plantilla Ejercicios Estados Contables. © S. Izquierdo and L.R. Izquierdo, 2019. This work is licensed under the Creative Commons Attribution 3.0 Unported License. To view a copy of this license, visit http://creativecommons.org/licenses/by/3.0/ or send a letter to Creative Commons, 444 Castro Street, Suite 900, Mountain View, California, 94041, USA."]
[]
[null,"http://creativecommons.org/licenses/by/3.0/"]
[]
[]
[null,"La licencia permite libertad para usar, distribuir y modificar, siempre que las obras derivadas hagan referencia a la obra original y sus autores, y permitan asimismo el uso, distribución y modificación posteriores en las mismas condiciones."]